BEGIN:VCALENDAR
VERSION:2.0
PRODID:-//Stratis iCal API//FR
CALSCALE:GREGORIAN
X-WR-CALNAME:Le clos-masure, un patrimoine à vivre !
BEGIN:VEVENT
UID:event-24431
SUMMARY:Le clos-masure  un patrimoine à vivre !
DESCRIPTION:Du 4 avril au 7 juin  la Maison du patrimoine du Havre accueille l’exposition "Le clos-masure  un patrimoine à vivre !"  proposée par le Pays d’art et d’histoire Le Havre Seine Métropole.
DTSTAMP:20260422T122935Z
DTSTART:20260403T220000Z
DTEND:20260606T220000Z
STATUS:CONFIRMED
SEQUENCE:1
BEGIN:VALARM
TRIGGER:-PT30M
DESCRIPTION:Le clos-masure  un patrimoine à vivre !
ACTION:DISPLAY
END:VALARM
END:VEVENT
END:VCALENDAR