BEGIN:VCALENDAR
VERSION:2.0
PRODID:-//Stratis iCal API//FR
CALSCALE:GREGORIAN
X-WR-CALNAME:Un Été Au Havre : participez à un atelier de moulage de main au CEM
BEGIN:VEVENT
UID:event-24421
SUMMARY:Un Été Au Havre : participez à un atelier de moulage de main au CEM
DESCRIPTION:Vendredi 24 avril de 18h à 20h au CEM (Centre d'expressions musicales du Havre)  immortalisez votre main lors d’un atelier participatif proposé dans le cadre de la programmation 2026 d’Un Été Au Havre.
DTSTAMP:20260422T091829Z
DTSTART:20260424T160000Z
DTEND:20260424T180000Z
STATUS:CONFIRMED
SEQUENCE:1
BEGIN:VALARM
TRIGGER:-PT30M
DESCRIPTION:Un Été Au Havre : participez à un atelier de moulage de main au CEM
ACTION:DISPLAY
END:VALARM
END:VEVENT
END:VCALENDAR