BEGIN:VCALENDAR
VERSION:2.0
PRODID:-//Stratis iCal API//FR
CALSCALE:GREGORIAN
X-WR-CALNAME:Helios célèbre ses 10 ans au théâtre Le Normandy
BEGIN:VEVENT
UID:event-24415
SUMMARY:Helios célèbre ses 10 ans au théâtre Le Normandy
DESCRIPTION:Samedi 25 avril  de 19h30 à 2h  le théâtre Le Normandy accueille une nuit électrisante pour célébrer les 10 ans du collectif Helios.
DTSTAMP:20260420T142145Z
DTSTART:20260425T173000Z
DTEND:20260425T000000Z
STATUS:CONFIRMED
SEQUENCE:1
BEGIN:VALARM
TRIGGER:-PT30M
DESCRIPTION:Helios célèbre ses 10 ans au théâtre Le Normandy
ACTION:DISPLAY
END:VALARM
END:VEVENT
END:VCALENDAR