BEGIN:VCALENDAR
VERSION:2.0
PRODID:-//Stratis iCal API//FR
CALSCALE:GREGORIAN
X-WR-CALNAME:14ème Salon de la Photographie d’Octeville-sur-Mer
BEGIN:VEVENT
UID:event-24394
SUMMARY:14ème Salon de la Photographie d’Octeville-sur-Mer
DESCRIPTION:L’Association REFLEX annonce le retour de son traditionnel Salon de la Photographie  qui se tiendra les 30 et 31 mai 2026 au Gymnase Michel Adam. Pour cette 14ème édition  l’événement franchit une nouvelle étape en accueillant le photographe Bernard Hebert en tant qu'invité d’honneur.
DTSTAMP:20260413T124256Z
DTSTART:20260530T080000Z
DTEND:20260531T160000Z
STATUS:CONFIRMED
SEQUENCE:1
BEGIN:VALARM
TRIGGER:-PT30M
DESCRIPTION:14ème Salon de la Photographie d’Octeville-sur-Mer
ACTION:DISPLAY
END:VALARM
END:VEVENT
END:VCALENDAR